BEGIN:VCALENDAR
VERSION:2.0
PRODID:-//eventon.com NONSGML v1.0//EN
CALSCALE:GREGORIAN
METHOD:PUBLISH
BEGIN:VEVENT
UID:69ea7f284afbc
DTSTAMP:20260423T202056Z
DTSTART:20250427T103000Z
DTEND:20250427T123000Z
LOCATION:
SUMMARY:Journée Jeux par Chenilles et Papillons
DESCRIPTION:Journée Jeux par Chenilles et Papillons\nhttps://www.saint-pry
 ve.com/events/journee-jeux-par-chenilles-et-papillons/
URL:https://www.saint-pryve.com/events/journee-jeux-par-chenilles-et-papillons/
END:VEVENT
END:VCALENDAR