BEGIN:VCALENDAR
VERSION:2.0
PRODID:-//eventon.com NONSGML v1.0//EN
CALSCALE:GREGORIAN
METHOD:PUBLISH
BEGIN:VEVENT
UID:69e9f63a4c63c
DTSTAMP:20260423T103642Z
DTSTART:20250414T160000Z
DTEND:20250414T170000Z
LOCATION:
SUMMARY:Atelier dessin zen
DESCRIPTION:A partir de " La Grande Vague de Kanagawa" d'Hokusai.\nhttps://
 www.saint-pryve.com/events/atelier-dessin-zen-2/
URL:https://www.saint-pryve.com/events/atelier-dessin-zen-2/
END:VEVENT
END:VCALENDAR