BEGIN:VCALENDAR
VERSION:2.0
PRODID:-//eventon.com NONSGML v1.0//EN
CALSCALE:GREGORIAN
METHOD:PUBLISH
BEGIN:VEVENT
UID:69e7f2b492b2e
DTSTAMP:20260421T215708Z
DTSTART:20250317T180000Z
DTEND:20250317T200000Z
LOCATION:
SUMMARY:Couture adulte- ASL
DESCRIPTION:Renseignements et inscriptions : 02 38 66 44 78 https://asl-stp
 ryve.fr\nhttps://www.saint-pryve.com/events/couture-adulte-asl/
URL:https://www.saint-pryve.com/events/couture-adulte-asl/
END:VEVENT
END:VCALENDAR