BEGIN:VCALENDAR
VERSION:2.0
PRODID:-//eventon.com NONSGML v1.0//EN
CALSCALE:GREGORIAN
METHOD:PUBLISH
BEGIN:VEVENT
UID:69ecf8d60f00b
DTSTAMP:20260425T172438Z
DTSTART:20250314T180000Z
DTEND:20250314T193000Z
LOCATION:
SUMMARY:Atelier Art Floral - ASL
DESCRIPTION:Renseignements et inscriptions : 02 38 66 44 78 https://asl-stp
 ryve.fr\nhttps://www.saint-pryve.com/events/atelier-art-floral-asl/
URL:https://www.saint-pryve.com/events/atelier-art-floral-asl/
END:VEVENT
END:VCALENDAR