BEGIN:VCALENDAR
VERSION:2.0
PRODID:-//eventon.com NONSGML v1.0//EN
CALSCALE:GREGORIAN
METHOD:PUBLISH
BEGIN:VEVENT
UID:69ec3725a1d77
DTSTAMP:20260425T033813Z
DTSTART:20250320T190000Z
DTEND:20250320T191500Z
LOCATION:
SUMMARY:Choix du Ciné plein air pour le vendredi 4 juillet
DESCRIPTION:Rendez-vous sur la page Facebook de la Ville à 19 h !\nhttps:/
 /www.saint-pryve.com/events/choix-du-cine-plein-air-pour-le-vendredi-4-juil
 let/
URL:https://www.saint-pryve.com/events/choix-du-cine-plein-air-pour-le-vendredi-4-juillet/
END:VEVENT
END:VCALENDAR