BEGIN:VCALENDAR
VERSION:2.0
PRODID:-//eventon.com NONSGML v1.0//EN
CALSCALE:GREGORIAN
METHOD:PUBLISH
BEGIN:VEVENT
UID:69eb25a1afb6d
DTSTAMP:20260424T081113Z
DTSTART:20250315
DTEND:20250316
LOCATION:
SUMMARY:Dépôt des projets pour le Budget Participatif 2025
DESCRIPTION:Rendez-vous sur la page d'accueil pour déposer vos projets !\n
 https://www.saint-pryve.com/events/depot-des-projets-pour-le-budget-partici
 patif-2025/
URL:https://www.saint-pryve.com/events/depot-des-projets-pour-le-budget-participatif-2025/
END:VEVENT
END:VCALENDAR