BEGIN:VCALENDAR
VERSION:2.0
PRODID:-//eventon.com NONSGML v1.0//EN
CALSCALE:GREGORIAN
METHOD:PUBLISH
BEGIN:VEVENT
UID:69ed722444112
DTSTAMP:20260426T020212Z
DTSTART:20250301
DTEND:20250302
LOCATION:
SUMMARY:Concours de dessin Manga
DESCRIPTION:Le concours se déroule à la médiathèque jusqu'au 28 mai.  
 À partir de 7 ans\nhttps://www.saint-pryve.com/events/concours-de-dessin-m
 anga/
URL:https://www.saint-pryve.com/events/concours-de-dessin-manga/
END:VEVENT
END:VCALENDAR