BEGIN:VCALENDAR
VERSION:2.0
PRODID:-//eventon.com NONSGML v1.0//EN
CALSCALE:GREGORIAN
METHOD:PUBLISH
BEGIN:VEVENT
UID:69e9f4864332c
DTSTAMP:20260423T102926Z
DTSTART:20250227T090000Z
DTEND:20250227T120000Z
LOCATION:
SUMMARY:Permanences inscription pour le repas des seniors
DESCRIPTION:Inscriptions au CCAS\nhttps://www.saint-pryve.com/events/perman
 ence-inscription-pour-le-repas-des-seniors-4/
URL:https://www.saint-pryve.com/events/permanence-inscription-pour-le-repas-des-seniors-4/
END:VEVENT
END:VCALENDAR