BEGIN:VCALENDAR
VERSION:2.0
PRODID:-//eventon.com NONSGML v1.0//EN
CALSCALE:GREGORIAN
METHOD:PUBLISH
BEGIN:VEVENT
UID:69eaa9ef7eef2
DTSTAMP:20260423T232327Z
DTSTART:20250211T140000Z
DTEND:20250211T160000Z
LOCATION:
SUMMARY:Projection d'un dessin animé
DESCRIPTION:Pour les enfants à partir de 6 ans. Plus de renseignements à 
 la Médiathèque. Sur inscription\nhttps://www.saint-pryve.com/events/proje
 ction-dun-dessin-anime/
URL:https://www.saint-pryve.com/events/projection-dun-dessin-anime/
END:VEVENT
END:VCALENDAR