BEGIN:VCALENDAR
VERSION:2.0
PRODID:-//eventon.com NONSGML v1.0//EN
CALSCALE:GREGORIAN
METHOD:PUBLISH
BEGIN:VEVENT
UID:69eb489c5d976
DTSTAMP:20260424T104028Z
DTSTART:20250129T183000Z
DTEND:20250129T200000Z
LOCATION:
SUMMARY:Conseil Municipal
DESCRIPTION:Conseil Municipal\nhttps://www.saint-pryve.com/events/conseil-m
 unicipal-3/
URL:https://www.saint-pryve.com/events/conseil-municipal-3/
END:VEVENT
END:VCALENDAR