BEGIN:VCALENDAR
VERSION:2.0
PRODID:-//eventon.com NONSGML v1.0//EN
CALSCALE:GREGORIAN
METHOD:PUBLISH
BEGIN:VEVENT
UID:69ea8b529b2d3
DTSTAMP:20260423T211250Z
DTSTART:20241105T140000Z
DTEND:20241111T183000Z
LOCATION:
SUMMARY:Exposition les Peintur'elles
DESCRIPTION:Exposition les Peintur'elles\nhttps://www.saint-pryve.com/event
 s/exposition-les-peinturelles/
URL:https://www.saint-pryve.com/events/exposition-les-peinturelles/
END:VEVENT
END:VCALENDAR