BEGIN:VCALENDAR
VERSION:2.0
PRODID:-//eventon.com NONSGML v1.0//EN
CALSCALE:GREGORIAN
METHOD:PUBLISH
BEGIN:VEVENT
UID:69e6deb613a88
DTSTAMP:20260421T021934Z
DTSTART:20241023T170000Z
DTEND:20241023T180000Z
LOCATION:
SUMMARY:Lectures magiques
DESCRIPTION:Pour les 4-12 ans. Sur inscription auprès de la médiathèque\
 nhttps://www.saint-pryve.com/events/lectures-magiques-2/
URL:https://www.saint-pryve.com/events/lectures-magiques-2/
END:VEVENT
END:VCALENDAR