BEGIN:VCALENDAR
VERSION:2.0
PRODID:-//eventon.com NONSGML v1.0//EN
CALSCALE:GREGORIAN
METHOD:PUBLISH
BEGIN:VEVENT
UID:69e8ad78c870d
DTSTAMP:20260422T111400Z
DTSTART:20241018
DTEND:20241019
LOCATION:
SUMMARY:EXPOSITION 10 JOURS AU DOMAINE
DESCRIPTION:Exposition du 18 au 27 octobre Lundi au vendredi : 15h à 19h W
 eek-end : 10h à 19h\nhttps://www.saint-pryve.com/events/exposition-10-jour
 s-au-domaine/
URL:https://www.saint-pryve.com/events/exposition-10-jours-au-domaine/
END:VEVENT
END:VCALENDAR