BEGIN:VCALENDAR
VERSION:2.0
PRODID:-//eventon.com NONSGML v1.0//EN
CALSCALE:GREGORIAN
METHOD:PUBLISH
BEGIN:VEVENT
UID:69e5f3100d837
DTSTAMP:20260420T093408Z
DTSTART:20230917T100000Z
DTEND:20230917T150000Z
LOCATION:
SUMMARY:Les Ã‰chappÃ©es Ã  VÃ©lo
DESCRIPTION:Retrouvez les Ã‰chappÃ©es Ã  vÃ©lo pour sa deuxiÃ¨me Ã©dition Ã
   Saint-PryvÃ© ! Rendez-vous sur la ligne de dÃ©part le dimanche 17 septemb
 re 2023 sous la Halle du Ponceau\,  de 10h Ã  15h. Pour vous accompagner su
 r cette journÃ©e\,  diffÃ©rentes associations seront prÃ©sentes : Sous la H
 alle\,  lâ€™association 1 Terre Action[..]\nhttps://www.saint-pryve.com/eve
 nts/les-echappees-a-velo/
URL:https://www.saint-pryve.com/events/les-echappees-a-velo/
END:VEVENT
END:VCALENDAR