BEGIN:VCALENDAR
VERSION:2.0
PRODID:-//eventon.com NONSGML v1.0//EN
CALSCALE:GREGORIAN
METHOD:PUBLISH
BEGIN:VEVENT
UID:69ece65dc2dfb
DTSTAMP:20260425T160549Z
DTSTART:20260425T190000Z
DTEND:20260425T235000Z
LOCATION:
SUMMARY:Concert Momentum par Harmo'Asso
DESCRIPTION:Harmo'Asso\,  association pryvataine depuis 2025\,  en partenar
 iat avec la Ville de Saint-Pryvé Saint-Mesmin\,  vous propose les Escales 
 Musicales\,  une série de concerts variés et accessibles à tous publics\
 ,  pour susciter la rencontre\,  éveiller la curiosité et dynamiser la vi
 e culturelle locale. Momentum\, le samedi 25 avril à 19h à l'Auditorium r
 éunissant[..]\nhttps://www.saint-pryve.com/events/concert-momentum-par-har
 moasso/
URL:https://www.saint-pryve.com/events/concert-momentum-par-harmoasso/
END:VEVENT
END:VCALENDAR