BEGIN:VCALENDAR
VERSION:2.0
PRODID:-//eventon.com NONSGML v1.0//EN
CALSCALE:GREGORIAN
METHOD:PUBLISH
BEGIN:VEVENT
UID:69e87a4533399
DTSTAMP:20260422T073533Z
DTSTART:20260402T090000Z
DTEND:20260402T120000Z
LOCATION:
SUMMARY:Conciliation de justice
DESCRIPTION:Sur rendez-vous uniquement. Merci de contacter l'accueil de la 
 Mairie pour plus d'informations.\nhttps://www.saint-pryve.com/events/concil
 iation-de-justice-4/
URL:https://www.saint-pryve.com/events/conciliation-de-justice-4/
END:VEVENT
END:VCALENDAR