BEGIN:VCALENDAR
VERSION:2.0
PRODID:-//eventon.com NONSGML v1.0//EN
CALSCALE:GREGORIAN
METHOD:PUBLISH
BEGIN:VEVENT
UID:69ead9cee5532
DTSTAMP:20260424T024742Z
DTSTART:20260327
DTEND:20260328
LOCATION:
SUMMARY:Exposition "Scène éphémère"
DESCRIPTION:Laissez-vous surprendre par la magie des matières et l’audac
 e des formes\,  dans un écrin où l’art contemporain prend vie sous vos 
 yeux. Une expérience à ne pas manquer\,  pour les amateurs du beau et les
  curieux en quête d’émotions esthétiques. Exposition du 27 mars au 5 a
 vrilHoraires d'ouverture :Lundi au[..]\nhttps://www.saint-pryve.com/events/
 exposition-scene-ephemere/
URL:https://www.saint-pryve.com/events/exposition-scene-ephemere/
END:VEVENT
END:VCALENDAR