BEGIN:VCALENDAR
VERSION:2.0
PRODID:-//eventon.com NONSGML v1.0//EN
CALSCALE:GREGORIAN
METHOD:PUBLISH
BEGIN:VEVENT
UID:69eb491411fcf
DTSTAMP:20260424T104228Z
DTSTART:20260112
DTEND:20260113
LOCATION:
SUMMARY:Vote pour le prix Manga Loiret 2026
DESCRIPTION:Vote pour le prix Manga Loiret 2026\nhttps://www.saint-pryve.co
 m/events/vote-pour-le-prix-manga-loiret-2026/
URL:https://www.saint-pryve.com/events/vote-pour-le-prix-manga-loiret-2026/
END:VEVENT
END:VCALENDAR